BEGIN:VCALENDAR
VERSION:2.0
PRODID:-//Wag Central Dog Boarding, Daycare and Grooming Stratford, CT - ECPv4.7.0.1//NONSGML v1.0//EN
CALSCALE:GREGORIAN
METHOD:PUBLISH
X-WR-CALNAME:Wag Central Dog Boarding, Daycare and Grooming Stratford, CT
X-ORIGINAL-URL:https://wagcentralct.com
X-WR-CALDESC:Events for Wag Central Dog Boarding, Daycare and Grooming Stratford, CT
BEGIN:VEVENT
DTSTART;VALUE=DATE:20210902
DTEND;VALUE=DATE:20210903
DTSTAMP:20260425T122931
CREATED:20210826T135424Z
LAST-MODIFIED:20210826T183200Z
UID:4566-1630540800-1630627199@wagcentralct.com
SUMMARY:Add Swim & Canine Enrichment Day
DESCRIPTION:\nIt’s Cookies and Milk Day! Yummy cookies are soaked in goat’s milk for $6. \n“Might as well jump! Go ahead and jump!” The pups will channel their inner David Lee Roth and work on agility with jumps for Canine Enrichment day\, just $5. \nAdd Swim to Daycare! Our famous $13 swim daycare add-on continues today along with the optional $30 basic bath special for wet pups! Nail trims are $15 and a spritz of cologne is $5. \n\n\n  \n
URL:https://wagcentralct.com/event/add-swim-daycare-2-2-2-2-2-2-2-2-2-2-2-2-2-2-2-2-2-2-2-2-2-2-2-3-2-3-2-2-3-3-2-2-2-2-2-2-2-2-2-2-2-2-2-2-2-2-2-2-2-2-2-2-2-2-2-2-2-2-2-2-2-2-2/
LOCATION:Wag Central
CATEGORIES:Daycare,Swim
END:VEVENT
END:VCALENDAR