BEGIN:VCALENDAR
VERSION:2.0
PRODID:-//Wag Central Dog Boarding, Daycare and Grooming Stratford, CT - ECPv4.7.0.1//NONSGML v1.0//EN
CALSCALE:GREGORIAN
METHOD:PUBLISH
X-WR-CALNAME:Wag Central Dog Boarding, Daycare and Grooming Stratford, CT
X-ORIGINAL-URL:https://wagcentralct.com
X-WR-CALDESC:Events for Wag Central Dog Boarding, Daycare and Grooming Stratford, CT
BEGIN:VEVENT
DTSTART;VALUE=DATE:20211026
DTEND;VALUE=DATE:20211027
DTSTAMP:20260421T132415
CREATED:20210927T163133Z
LAST-MODIFIED:20211020T151304Z
UID:4713-1635206400-1635292799@wagcentralct.com
SUMMARY:$36 Daycare Special and Training Tuesday
DESCRIPTION:\n$36 Daycare Special ($40 for puppy) for dogs who register at least 24 hours in advance. \n\nIt’s Training Tuesday! We’ll be walking the walk\, literally. Our goal is to shed light on the proper techniques behind leash walking. \nIt’s Meatball Event Day! For $5\, add on a delicious\, house-prepared doggy chicken meatball to be served at rest time as an added treat for afternoon energy. \nIt’s also bath day! Did you know your pup should get a bath as often as you change your bedsheets? A no-frills bath is $30 today for our daycare clients. Add on a Dremel nail trim for $15. \nLet’s boost their exercise with a swim. We have extra staff hands on deck to make sure every pup has a comfortable and happy experience. Ears will be cleaned afterward. Add on a swim for $13. Add-on the paddleboard too for extra strength development and balance for $8. Tired pups are happy pups! \n\n  \n\n
URL:https://wagcentralct.com/event/32-daycare-special-woofle-event-day-2-2-2-2-2-2-2-2-2-2-2-2-2-2-2-2-2-2-2-2-2-2-2-2-2-2-2-2-2-2-2-2-2-2-2-2-3-2-2-2-2-2-2-2-2-2-2-2-2-2-2-2-2-2-2-2-2-3-2-2-2-2-3-2-2-2-2-2-2-2-2-2-2-2-2-2-2/
LOCATION:Wag Central
CATEGORIES:Swim
END:VEVENT
END:VCALENDAR